BEGIN:VCALENDAR
X-LOTUS-CHARSET:UTF-8
VERSION:2.0
PRODID:ZMS-Berlin
BEGIN:VTIMEZONE
TZID:Europe/Berlin
X-LIC-LOCATION:Europe/Berlin
BEGIN:DAYLIGHT
TZOFFSETFROM:+0100
TZOFFSETTO:+0200
TZNAME:CEST
DTSTART:19700329T020000
RRULE:FREQ=YEARLY;INTERVAL=1;BYDAY=-1SU;BYMONTH=3
END:DAYLIGHT
BEGIN:STANDARD
TZOFFSETFROM:+0200
TZOFFSETTO:+0100
TZNAME:CET
DTSTART:19701025T030000
RRULE:FREQ=YEARLY;INTERVAL=1;BYDAY=-1SU;BYMONTH=10
END:STANDARD
END:VTIMEZONE
METHOD:REQUEST
BEGIN:VEVENT
UID:5ad00dfbfbb7d3e7f2d5f089e41b6a44@kulturig.com
DTSTAMP:20260424T163702
CLASS:PUBLIC
DTSTART;TZID=Europe/Berlin:20260605T193000
LOCATION:Gartenschaupark Rietberg - Volksbank-Arena
SUMMARY:Alex im Westerland - Tribute-Party: Die Toten Hosen meets Die Ärzte
DESCRIPTION:
BEGIN:VALARM
ACTION:DISPLAY
TRIGGER:-PT1440M
DESCRIPTION:Erinnerung
END:VALARM
END:VEVENT
END:VCALENDAR