BEGIN:VCALENDAR
X-LOTUS-CHARSET:UTF-8
VERSION:2.0
PRODID:ZMS-Berlin
BEGIN:VTIMEZONE
TZID:Europe/Berlin
X-LIC-LOCATION:Europe/Berlin
BEGIN:DAYLIGHT
TZOFFSETFROM:+0100
TZOFFSETTO:+0200
TZNAME:CEST
DTSTART:19700329T020000
RRULE:FREQ=YEARLY;INTERVAL=1;BYDAY=-1SU;BYMONTH=3
END:DAYLIGHT
BEGIN:STANDARD
TZOFFSETFROM:+0200
TZOFFSETTO:+0100
TZNAME:CET
DTSTART:19701025T030000
RRULE:FREQ=YEARLY;INTERVAL=1;BYDAY=-1SU;BYMONTH=10
END:STANDARD
END:VTIMEZONE
METHOD:REQUEST
BEGIN:VEVENT
UID:aef1cf197d6ff0b41e2990ba0f5ddced@kulturig.com
DTSTAMP:20260423T133318
CLASS:PUBLIC
DTSTART;TZID=Europe/Berlin:20260708T193000
DTEND;TZID=Europe/Berlin:20260708T010000
LOCATION:Cultura - Sparkassentheater an der Ems
SUMMARY:BAP - Auf die Plätze, fertig...BAP - Die Warm-Ups zum Fünfzigsten
DESCRIPTION:
BEGIN:VALARM
ACTION:DISPLAY
TRIGGER:-PT1440M
DESCRIPTION:Erinnerung
END:VALARM
END:VEVENT
END:VCALENDAR